BEGIN:VCALENDAR
VERSION:2.0
PRODID:-//Sedgemoor Chamber - ECPv6.15.18//NONSGML v1.0//EN
CALSCALE:GREGORIAN
METHOD:PUBLISH
X-WR-CALNAME:Sedgemoor Chamber
X-ORIGINAL-URL:https://sedgemoorchamber.co.uk
X-WR-CALDESC:Events for Sedgemoor Chamber
REFRESH-INTERVAL;VALUE=DURATION:PT1H
X-Robots-Tag:noindex
X-PUBLISHED-TTL:PT1H
BEGIN:VTIMEZONE
TZID:Europe/London
BEGIN:DAYLIGHT
TZOFFSETFROM:+0000
TZOFFSETTO:+0100
TZNAME:BST
DTSTART:20220327T010000
END:DAYLIGHT
BEGIN:STANDARD
TZOFFSETFROM:+0100
TZOFFSETTO:+0000
TZNAME:GMT
DTSTART:20221030T010000
END:STANDARD
BEGIN:DAYLIGHT
TZOFFSETFROM:+0000
TZOFFSETTO:+0100
TZNAME:BST
DTSTART:20230326T010000
END:DAYLIGHT
BEGIN:STANDARD
TZOFFSETFROM:+0100
TZOFFSETTO:+0000
TZNAME:GMT
DTSTART:20231029T010000
END:STANDARD
BEGIN:DAYLIGHT
TZOFFSETFROM:+0000
TZOFFSETTO:+0100
TZNAME:BST
DTSTART:20240331T010000
END:DAYLIGHT
BEGIN:STANDARD
TZOFFSETFROM:+0100
TZOFFSETTO:+0000
TZNAME:GMT
DTSTART:20241027T010000
END:STANDARD
END:VTIMEZONE
BEGIN:VEVENT
DTSTART;TZID=Europe/London:20231108T090000
DTEND;TZID=Europe/London:20231108T103000
DTSTAMP:20260422T183130
CREATED:20231008T142534Z
LAST-MODIFIED:20231008T142534Z
UID:12992-1699434000-1699439400@sedgemoorchamber.co.uk
SUMMARY:Breakfast Networking with John Holden
DESCRIPTION:Member Event – John Holden \nMy aim is to help businesses create more business for their business by connecting you with the opportunities you need to succeed. \nI have over 17 years of Networking experience and training businesses in how to improve their chances of success when they invest their time in networking. At this group\, you will have the chance to network\, listen to a great speaker\, and learn the art of attracting business to your business along with many other higher-level networking skills. \nThe emphasis with core members and guests is to follow up and open opportunities with introductions to your marketplace. Many people turn up to enjoy the social side of having breakfast and a chat\, which is fine but with the Taunton group\, we want you to create a network of Advocates which leads to a constant flow of business. If that is what you want for your business\, then come along and learn how to ask for the business.
URL:https://sedgemoorchamber.co.uk/chambers-events/breakfast-networking-with-john-holden/
LOCATION:Somerset County Cricket Club\, St James Street\, Taunton\, TA1 1JT
CATEGORIES:Member Led Event
ATTACH;FMTTYPE=image/jpeg:https://sedgemoorchamber.co.uk/wp-content/uploads/2023/10/your-partnerships_logo-design.jpg
END:VEVENT
BEGIN:VEVENT
DTSTART;TZID=Europe/London:20231114T093000
DTEND;TZID=Europe/London:20231114T163000
DTSTAMP:20260422T183130
CREATED:20231008T144012Z
LAST-MODIFIED:20231008T144059Z
UID:12996-1699954200-1699979400@sedgemoorchamber.co.uk
SUMMARY:SDS Open Days 2023
DESCRIPTION:Member Event – SDS \n  \nThe Canalside\, Bridgwater hosts the SDS Open Days 2023 \nThe Canalside in Bridgwater offers superb modern facilities designed to meet the requirements of business clients. Conveniently located just 5 minutes from the M5 Junction 24 near Bridgwater in Somerset. \nSDS are delighted to have chosen this great venue to host this year’s SDS Open Days.\nIn addition to the great features and benefits you will see over the two days by attending\, you will be presented with an extra special 20-year SDS celebration goody bag for attending. \nYou will see: \nDemos of the latest Konica Minolta copiers\, printers & scanners\nTime saving admin & efficiency tips for the office\nSoftware innovations including mobile device printing/scanning & print-on-demand booklet making\nCome and see the brilliant PaperCut print management solution in action. It not only controls your output; it also can dramatically reduce waste prints and importantly save your organisation time and money. \nBooking is essential\nRegister your space at the SDS Open Days to secure your slot with an SDS specialist. \nPlease visit https://doodle.com/bp/sds2/demo1 or https://doodle.com/bp/sds2/demo2 to make your booking\, 2 slots are available each hour so hopefully you won’t be disappointed.
URL:https://sedgemoorchamber.co.uk/chambers-events/sds-open-days-2023/
LOCATION:The Canalside\, Marsh Lane\, Bridgwater\,\, Somerset\, TA6 6LQ\, United Kingdom
CATEGORIES:Member Led Event
ATTACH;FMTTYPE=image/jpeg:https://sedgemoorchamber.co.uk/wp-content/uploads/2023/10/SDS_Open-Days-2023.jpg
END:VEVENT
BEGIN:VEVENT
DTSTART;TZID=Europe/London:20231115T093000
DTEND;TZID=Europe/London:20231115T163000
DTSTAMP:20260422T183130
CREATED:20231008T144044Z
LAST-MODIFIED:20231008T144044Z
UID:12999-1700040600-1700065800@sedgemoorchamber.co.uk
SUMMARY:SDS Open Days 2023
DESCRIPTION:Member Event – SDS \n  \nThe Canalside\, Bridgwater hosts the SDS Open Days 2023 \nThe Canalside in Bridgwater offers superb modern facilities designed to meet the requirements of business clients. Conveniently located just 5 minutes from the M5 Junction 24 near Bridgwater in Somerset. \nSDS are delighted to have chosen this great venue to host this year’s SDS Open Days.\nIn addition to the great features and benefits you will see over the two days by attending\, you will be presented with an extra special 20-year SDS celebration goody bag for attending. \nYou will see: \nDemos of the latest Konica Minolta copiers\, printers & scanners\nTime saving admin & efficiency tips for the office\nSoftware innovations including mobile device printing/scanning & print-on-demand booklet making\nCome and see the brilliant PaperCut print management solution in action. It not only controls your output; it also can dramatically reduce waste prints and importantly save your organisation time and money. \nBooking is essential\nRegister your space at the SDS Open Days to secure your slot with an SDS specialist. \nPlease visit https://doodle.com/bp/sds2/demo1 or https://doodle.com/bp/sds2/demo2 to make your booking\, 2 slots are available each hour so hopefully you won’t be disappointed.
URL:https://sedgemoorchamber.co.uk/chambers-events/sds-open-days-2023-2/
LOCATION:The Canalside\, Marsh Lane\, Bridgwater\,\, Somerset\, TA6 6LQ\, United Kingdom
CATEGORIES:Member Led Event
ATTACH;FMTTYPE=image/jpeg:https://sedgemoorchamber.co.uk/wp-content/uploads/2023/10/SDS_Open-Days-2023.jpg
END:VEVENT
END:VCALENDAR