BEGIN:VCALENDAR
VERSION:2.0
PRODID:-//Sedgemoor Chamber - ECPv6.15.18//NONSGML v1.0//EN
CALSCALE:GREGORIAN
METHOD:PUBLISH
X-WR-CALNAME:Sedgemoor Chamber
X-ORIGINAL-URL:https://sedgemoorchamber.co.uk
X-WR-CALDESC:Events for Sedgemoor Chamber
REFRESH-INTERVAL;VALUE=DURATION:PT1H
X-Robots-Tag:noindex
X-PUBLISHED-TTL:PT1H
BEGIN:VTIMEZONE
TZID:Europe/London
BEGIN:DAYLIGHT
TZOFFSETFROM:+0000
TZOFFSETTO:+0100
TZNAME:BST
DTSTART:20200329T010000
END:DAYLIGHT
BEGIN:STANDARD
TZOFFSETFROM:+0100
TZOFFSETTO:+0000
TZNAME:GMT
DTSTART:20201025T010000
END:STANDARD
BEGIN:DAYLIGHT
TZOFFSETFROM:+0000
TZOFFSETTO:+0100
TZNAME:BST
DTSTART:20210328T010000
END:DAYLIGHT
BEGIN:STANDARD
TZOFFSETFROM:+0100
TZOFFSETTO:+0000
TZNAME:GMT
DTSTART:20211031T010000
END:STANDARD
BEGIN:DAYLIGHT
TZOFFSETFROM:+0000
TZOFFSETTO:+0100
TZNAME:BST
DTSTART:20220327T010000
END:DAYLIGHT
BEGIN:STANDARD
TZOFFSETFROM:+0100
TZOFFSETTO:+0000
TZNAME:GMT
DTSTART:20221030T010000
END:STANDARD
END:VTIMEZONE
BEGIN:VEVENT
DTSTART;TZID=Europe/London:20210720T100000
DTEND;TZID=Europe/London:20210720T113000
DTSTAMP:20260423T051558
CREATED:20210521T114929Z
LAST-MODIFIED:20210521T114929Z
UID:7611-1626775200-1626780600@sedgemoorchamber.co.uk
SUMMARY:NatWest - The Power Of Social Media Workshop With Luv4 Marketing
DESCRIPTION:The Power Of Social Media – Turn Why Into Wow….\n\nNatWest invites you to this complimentary event hosted by Luv4 Marketing.\n\n\n\n\n\nAbout this event \n\n\nIs Your Marketing Achieving The Results For Your Business? \nLeads drive growth. We will take you through the platforms that drive leads to your business together with how to have your campaigns running profitably from month 1 \nWhatever your efforts to date\, you will take away key learnings of how to drive leads into your business from multiple sources and the difference between each. \nAlso learn; \n\nHow to benefit from a £11\,000 government funded digital marketing apprenticeship.\nHave a 90 day plan you will believe in\nHave the confidence to grow\n\nTHIS EVENT WILL TAKE YOUR BUSINESS TO THE NEXT LEVEL \nLimited places available
URL:https://sedgemoorchamber.co.uk/chambers-events/natwest-the-power-of-social-media-workshop-with-luv4-marketing/
CATEGORIES:Business Training,Free events,Networking,Online Events
ATTACH;FMTTYPE=image/jpeg:https://sedgemoorchamber.co.uk/wp-content/uploads/2021/05/Natwest-Event-8th-June-2021.jpg
ORGANIZER;CN="Andy Light -Natwest":MAILTO:andy.light@natwest.com
END:VEVENT
END:VCALENDAR