BEGIN:VCALENDAR
VERSION:2.0
PRODID:-//Sedgemoor Chamber - ECPv6.15.18//NONSGML v1.0//EN
CALSCALE:GREGORIAN
METHOD:PUBLISH
X-WR-CALNAME:Sedgemoor Chamber
X-ORIGINAL-URL:https://sedgemoorchamber.co.uk
X-WR-CALDESC:Events for Sedgemoor Chamber
REFRESH-INTERVAL;VALUE=DURATION:PT1H
X-Robots-Tag:noindex
X-PUBLISHED-TTL:PT1H
BEGIN:VTIMEZONE
TZID:Europe/London
BEGIN:DAYLIGHT
TZOFFSETFROM:+0000
TZOFFSETTO:+0100
TZNAME:BST
DTSTART:20210328T010000
END:DAYLIGHT
BEGIN:STANDARD
TZOFFSETFROM:+0100
TZOFFSETTO:+0000
TZNAME:GMT
DTSTART:20211031T010000
END:STANDARD
BEGIN:DAYLIGHT
TZOFFSETFROM:+0000
TZOFFSETTO:+0100
TZNAME:BST
DTSTART:20220327T010000
END:DAYLIGHT
BEGIN:STANDARD
TZOFFSETFROM:+0100
TZOFFSETTO:+0000
TZNAME:GMT
DTSTART:20221030T010000
END:STANDARD
BEGIN:DAYLIGHT
TZOFFSETFROM:+0000
TZOFFSETTO:+0100
TZNAME:BST
DTSTART:20230326T010000
END:DAYLIGHT
BEGIN:STANDARD
TZOFFSETFROM:+0100
TZOFFSETTO:+0000
TZNAME:GMT
DTSTART:20231029T010000
END:STANDARD
END:VTIMEZONE
BEGIN:VEVENT
DTSTART;TZID=Europe/London:20220209T180000
DTEND;TZID=Europe/London:20220209T200000
DTSTAMP:20260422T155755
CREATED:20220131T134830Z
LAST-MODIFIED:20220208T115726Z
UID:8960-1644429600-1644436800@sedgemoorchamber.co.uk
SUMMARY:Bridgwater Re-Energised – Here’s the Deal!
DESCRIPTION:Bridgwater have been allocated £23.2 million from the Government to invest in our ever-growing town\, the Town Deal Board is working to oversee the delivery of this Bridgwater investment plan. \nCome and join us on Wednesday 9th February when Bridgwater Chamber of Commerce will be holding an exclusive event for the business community to hear from our district council on the exciting and much anticipated projects and developments happening in Bridgwater. \nGuest Speaker: Nathaniel Lucas\, Economic Development Manager at Sedgemoor District Council. \nThis event will give the Bridgwater business community an exclusive opportunity to learn more about plans for the town’s future; providing access to information to aid strategic decision making for their own businesses and to hear about forthcoming opportunities. \nSchedule \n6pm – Registration\, Networking & Refreshments \n6:30pm – Guest Speakers \n7:15pm – Q&A \n7:30pm – Networking (optional) \n8pm – Close \n(All times are approximate) \n  \nREGISTRATION IS REQUIRED TO ATTEND THIS EVENT \nLight refreshments will be available – please state any food allergies\, special dietary requirements at time of booking in the ‘Additional Comments’ box on the booking form. \nProjects approved by the Bridgwater Town Board are: –
URL:https://sedgemoorchamber.co.uk/chambers-events/bridgwater-re-energised-heres-the-deal/
LOCATION:Town Hall\, High Street\, Bridgwater\, TA6 3BL\, United Kingdom
CATEGORIES:Free events,Networking
ATTACH;FMTTYPE=image/jpeg:https://sedgemoorchamber.co.uk/wp-content/uploads/2022/01/Image.jpg
END:VEVENT
END:VCALENDAR