BEGIN:VCALENDAR
VERSION:2.0
PRODID:-//Sedgemoor Chamber - ECPv6.15.18//NONSGML v1.0//EN
CALSCALE:GREGORIAN
METHOD:PUBLISH
X-WR-CALNAME:Sedgemoor Chamber
X-ORIGINAL-URL:https://sedgemoorchamber.co.uk
X-WR-CALDESC:Events for Sedgemoor Chamber
REFRESH-INTERVAL;VALUE=DURATION:PT1H
X-Robots-Tag:noindex
X-PUBLISHED-TTL:PT1H
BEGIN:VTIMEZONE
TZID:UTC
BEGIN:STANDARD
TZOFFSETFROM:+0000
TZOFFSETTO:+0000
TZNAME:UTC
DTSTART:20200101T000000
END:STANDARD
END:VTIMEZONE
BEGIN:VEVENT
DTSTART;TZID=UTC:20210504T093000
DTEND;TZID=UTC:20210504T223000
DTSTAMP:20260423T064357
CREATED:20210316T113043Z
LAST-MODIFIED:20210316T113615Z
UID:6996-1620120600-1620167400@sedgemoorchamber.co.uk
SUMMARY:NatWest Business Builder Workshop 6 - Managing Unexpected Growth
DESCRIPTION:Effectively managing and forecasting growth is key to building a sustainable and resilient business.\nBusiness Builder events are designed to support and challenge users to develop the right foundations for their business; whether that’s how to write a great pitch\, how to define their Business Model or navigate through a changing environment. \nEach 60-minute event is tailored to meet a specific business need\, offering attendees an opportunity to upskill in the company of other like-minded business owners\, share experiences\, and work through individual and group exercises to implement the learning into their own business. \nThese workshops run every Tuesday for 10 weeks starting on Tuesday 30th March 2021 from 09:30am – 10:30am.  \nTickets can now be secured through Eventbrite for all workshops. It is recommended that attendees should try to attend the whole series of workshops to get maximum benefit. \nThe workshops will take place via Zoom and the code / password for this will be released to attendees prior to the start by NatWest Business. \nALL WORKSHOPS ARE FREE TO ATTEND \nWe look forward to ‘seeing’ you there.
URL:https://sedgemoorchamber.co.uk/chambers-events/natwest-business-builder-workshop-6-managing-unexpected-growth/
LOCATION:Online
CATEGORIES:Business strategy,Business Training,Free events,Online Events
ATTACH;FMTTYPE=image/png:https://sedgemoorchamber.co.uk/wp-content/uploads/2021/03/natwest-business-builder.png
ORGANIZER;CN="Andy Light -Natwest":MAILTO:andy.light@natwest.com
END:VEVENT
BEGIN:VEVENT
DTSTART;TZID=UTC:20210507T093000
DTEND;TZID=UTC:20210507T103000
DTSTAMP:20260423T064357
CREATED:20210419T123207Z
LAST-MODIFIED:20210506T085230Z
UID:7353-1620379800-1620383400@sedgemoorchamber.co.uk
SUMMARY:Chamber Chat Friday 7th May - Member Exclusive!
DESCRIPTION:Come and join us for our: \n‘CHAMBER CHAT’\nChamber Chat is an informal opportunity to grab a cuppa and catch up with other Chamber members and discuss whatever is on your mind.  \nThere’s no set agenda and we’ve talked about many things from the Chamber events\, the regeneration of the town centre\, the various business support packages that have been available and member business developments to just general conversations about subjects like the impact of the Covid lockdowns to learning to master the art of in-line skating etc. \nTo join us just click on the link below: \nJoin Zoom Meeting \nhttps://us02web.zoom.us/j/84050883650?pwd=UXZ2R1RNRVM2M3FyOGxBNzU0Yyt3dz09 \nMeeting ID: 840 5088 3650 \nPasscode: 732628 \n  We look forward to ‘seeing’ there!
URL:https://sedgemoorchamber.co.uk/chambers-events/chamber-chat-member-exclusive-7th-may/
LOCATION:Online
CATEGORIES:Free events,Networking,Online Events
ATTACH;FMTTYPE=image/png:https://sedgemoorchamber.co.uk/wp-content/uploads/2021/04/Event-banner-Copy-2.png
END:VEVENT
BEGIN:VEVENT
DTSTART;TZID=UTC:20210511T100000
DTEND;TZID=UTC:20210511T110000
DTSTAMP:20260423T064357
CREATED:20210316T113132Z
LAST-MODIFIED:20210506T081647Z
UID:6998-1620727200-1620730800@sedgemoorchamber.co.uk
SUMMARY:NatWest Business Builder Workshop 7 - Building A Resilient Business Model
DESCRIPTION:Examine the 9 key areas of a business model and talk through the best practises for your business.\nBusiness Builder events are designed to support and challenge users to develop the right foundations for their business; whether that’s how to write a great pitch\, how to define their Business Model or navigate through a changing environment. \nEach 60-minute event is tailored to meet a specific business need\, offering attendees an opportunity to upskill in the company of other like-minded business owners\, share experiences\, and work through individual and group exercises to implement the learning into their own business. \nThese workshops run every Tuesday for 10 weeks starting on Tuesday 30th March 2021 from 09:30am – 10:30am.  \nTickets can now be secured through Eventbrite for all workshops. It is recommended that attendees should try to attend the whole series of workshops to get maximum benefit. \nThe workshops will take place via Zoom and the code / password for this will be released to attendees prior to the start by NatWest Business. \nALL WORKSHOPS ARE FREE TO ATTEND \nWe look forward to ‘seeing’ you there.
URL:https://sedgemoorchamber.co.uk/chambers-events/natwest-business-builder-workshop-7-building-a-resilient-business-model/
LOCATION:Online
CATEGORIES:Business strategy,Business Training,Free events,Online Events
ATTACH;FMTTYPE=image/png:https://sedgemoorchamber.co.uk/wp-content/uploads/2021/03/natwest-business-builder.png
ORGANIZER;CN="Andy Light -Natwest":MAILTO:andy.light@natwest.com
END:VEVENT
BEGIN:VEVENT
DTSTART;TZID=UTC:20210514T103000
DTEND;TZID=UTC:20210514T113000
DTSTAMP:20260423T064357
CREATED:20210419T123222Z
LAST-MODIFIED:20210419T131521Z
UID:7355-1620988200-1620991800@sedgemoorchamber.co.uk
SUMMARY:Chamber Chat Friday 14th May - Member Exclusive!
DESCRIPTION:Come and join us for our: \n‘CHAMBER CHAT’\nChamber Chat is an informal opportunity to grab a cuppa and catch up with other Chamber members and discuss whatever is on your mind.  \nThere’s no set agenda and we’ve talked about many things from the Chamber events\, the regeneration of the town centre\, the various business support packages that have been available and member business developments to just general conversations about subjects like the impact of the Covid lockdowns to learning to master the art of in-line skating etc. \nTo join us just click on the link below: \nJoin Zoom Meeting \nhttps://us02web.zoom.us/j/84050883650?pwd=UXZ2R1RNRVM2M3FyOGxBNzU0Yyt3dz09 \nMeeting ID: 840 5088 3650 \nPasscode: 732628 \n  We look forward to ‘seeing’ there!
URL:https://sedgemoorchamber.co.uk/chambers-events/chamber-chat-member-exclusive-14th-may/
LOCATION:Online
CATEGORIES:Free events,Networking,Online Events
ATTACH;FMTTYPE=image/png:https://sedgemoorchamber.co.uk/wp-content/uploads/2021/04/Event-banner-Copy-2.png
END:VEVENT
BEGIN:VEVENT
DTSTART;TZID=UTC:20210518T100000
DTEND;TZID=UTC:20210518T110000
DTSTAMP:20260423T064357
CREATED:20210316T113211Z
LAST-MODIFIED:20210506T081615Z
UID:7000-1621332000-1621335600@sedgemoorchamber.co.uk
SUMMARY:NatWest Business Builder Workshop 8 - Pivoting Your Business Model
DESCRIPTION:Embracing a culture of regular research\, feedback and learning is crucial to developing a flexible and resilient business model.\nBusiness Builder events are designed to support and challenge users to develop the right foundations for their business; whether that’s how to write a great pitch\, how to define their Business Model or navigate through a changing environment. \nEach 60-minute event is tailored to meet a specific business need\, offering attendees an opportunity to upskill in the company of other like-minded business owners\, share experiences\, and work through individual and group exercises to implement the learning into their own business. \nThese workshops run every Tuesday for 10 weeks starting on Tuesday 30th March 2021 from 09:30am – 10:30am.  \nTickets can now be secured through Eventbrite for all workshops. It is recommended that attendees should try to attend the whole series of workshops to get maximum benefit. \nThe workshops will take place via Zoom and the code / password for this will be released to attendees prior to the start by NatWest Business. \nALL WORKSHOPS ARE FREE TO ATTEND \nWe look forward to ‘seeing’ you there.
URL:https://sedgemoorchamber.co.uk/chambers-events/natwest-business-builder-workshop-8-pivoting-your-business-model/
LOCATION:Online
CATEGORIES:Business strategy,Business Training,Free events,Online Events
ATTACH;FMTTYPE=image/png:https://sedgemoorchamber.co.uk/wp-content/uploads/2021/03/natwest-business-builder.png
ORGANIZER;CN="Andy Light -Natwest":MAILTO:andy.light@natwest.com
END:VEVENT
BEGIN:VEVENT
DTSTART;TZID=UTC:20210521T103000
DTEND;TZID=UTC:20210521T113000
DTSTAMP:20260423T064357
CREATED:20210419T123405Z
LAST-MODIFIED:20210419T131553Z
UID:7357-1621593000-1621596600@sedgemoorchamber.co.uk
SUMMARY:Chamber Chat Friday 21st May- Member Exclusive!
DESCRIPTION:Come and join us for our: \n‘CHAMBER CHAT’\nChamber Chat is an informal opportunity to grab a cuppa and catch up with other Chamber members and discuss whatever is on your mind.  \nThere’s no set agenda and we’ve talked about many things from the Chamber events\, the regeneration of the town centre\, the various business support packages that have been available and member business developments to just general conversations about subjects like the impact of the Covid lockdowns to learning to master the art of in-line skating etc. \nTo join us just click on the link below: \nJoin Zoom Meeting \nhttps://us02web.zoom.us/j/84050883650?pwd=UXZ2R1RNRVM2M3FyOGxBNzU0Yyt3dz09 \nMeeting ID: 840 5088 3650 \nPasscode: 732628 \n  We look forward to ‘seeing’ there!
URL:https://sedgemoorchamber.co.uk/chambers-events/chamber-chat-member-exclusive-21st-may/
LOCATION:Online
CATEGORIES:Free events,Networking,Online Events
ATTACH;FMTTYPE=image/png:https://sedgemoorchamber.co.uk/wp-content/uploads/2021/04/Event-banner-Copy-2.png
END:VEVENT
BEGIN:VEVENT
DTSTART;TZID=UTC:20210525T100000
DTEND;TZID=UTC:20210525T110000
DTSTAMP:20260423T064357
CREATED:20210316T113242Z
LAST-MODIFIED:20210506T081547Z
UID:7002-1621936800-1621940400@sedgemoorchamber.co.uk
SUMMARY:NatWest Business Builder Workshop 9 - Setting Goals To Keep Growing
DESCRIPTION:Having a plan in place is critical to keeping your business moving forward. In this session we’ll look at creating a long-term vision for your business\nBusiness Builder events are designed to support and challenge users to develop the right foundations for their business; whether that’s how to write a great pitch\, how to define their Business Model or navigate through a changing environment. \nEach 60-minute event is tailored to meet a specific business need\, offering attendees an opportunity to upskill in the company of other like-minded business owners\, share experiences\, and work through individual and group exercises to implement the learning into their own business. \nThese workshops run every Tuesday for 10 weeks starting on Tuesday 30th March 2021 from 09:30am – 10:30am.  \nTickets can now be secured through Eventbrite for all workshops. It is recommended that attendees should try to attend the whole series of workshops to get maximum benefit. \nThe workshops will take place via Zoom and the code / password for this will be released to attendees prior to the start by NatWest Business. \nALL WORKSHOPS ARE FREE TO ATTEND \nWe look forward to ‘seeing’ you there.
URL:https://sedgemoorchamber.co.uk/chambers-events/natwest-business-builder-workshop-9-setting-goals-to-keep-growing/
LOCATION:Online
CATEGORIES:Business strategy,Business Training,Free events,Online Events
ATTACH;FMTTYPE=image/png:https://sedgemoorchamber.co.uk/wp-content/uploads/2021/03/natwest-business-builder.png
ORGANIZER;CN="Andy Light -Natwest":MAILTO:andy.light@natwest.com
END:VEVENT
BEGIN:VEVENT
DTSTART;TZID=UTC:20210528T103000
DTEND;TZID=UTC:20210528T113000
DTSTAMP:20260423T064357
CREATED:20210419T123419Z
LAST-MODIFIED:20210419T131623Z
UID:7359-1622197800-1622201400@sedgemoorchamber.co.uk
SUMMARY:Chamber Chat Friday 28th May - Member Exclusive!
DESCRIPTION:Come and join us for our: \n‘CHAMBER CHAT’\nChamber Chat is an informal opportunity to grab a cuppa and catch up with other Chamber members and discuss whatever is on your mind.  \nThere’s no set agenda and we’ve talked about many things from the Chamber events\, the regeneration of the town centre\, the various business support packages that have been available and member business developments to just general conversations about subjects like the impact of the Covid lockdowns to learning to master the art of in-line skating etc. \nTo join us just click on the link below: \nJoin Zoom Meeting \nhttps://us02web.zoom.us/j/84050883650?pwd=UXZ2R1RNRVM2M3FyOGxBNzU0Yyt3dz09 \nMeeting ID: 840 5088 3650 \nPasscode: 732628 \n  We look forward to ‘seeing’ there!
URL:https://sedgemoorchamber.co.uk/chambers-events/chamber-chat-member-exclusive-28th-may/
LOCATION:Online
CATEGORIES:Free events,Networking,Online Events
ATTACH;FMTTYPE=image/png:https://sedgemoorchamber.co.uk/wp-content/uploads/2021/04/Event-banner-Copy-2.png
END:VEVENT
END:VCALENDAR